BEGIN:VCALENDAR
VERSION:2.0
PRODID:-//SICC - ECPv5.7.1//NONSGML v1.0//EN
CALSCALE:GREGORIAN
METHOD:PUBLISH
X-ORIGINAL-URL:https://sicc.ch
X-WR-CALDESC:Events for SICC
BEGIN:VTIMEZONE
TZID:UTC
BEGIN:STANDARD
TZOFFSETFROM:+0000
TZOFFSETTO:+0000
TZNAME:UTC
DTSTART:20150101T000000
END:STANDARD
END:VTIMEZONE
BEGIN:VEVENT
DTSTART;VALUE=DATE:20150626
DTEND;VALUE=DATE:20150627
DTSTAMP:20260419T212716
CREATED:20181210T063953Z
LAST-MODIFIED:20191031T073012Z
UID:2017-1435276800-1435363199@sicc.ch
SUMMARY:CEO Forum – “Managing an Indian Workforce”
DESCRIPTION:Address by Mr. John Clark \nOrganiser: SICC INDIA – Pune \nPune\, Maharashtra
URL:https://sicc.ch/event/ceo-forum-managing-an-indian-workforce/
LOCATION:Pune\, Maharashtra
ATTACH;FMTTYPE=image/jpeg:https://sicc.ch/wp-content/uploads/2019/05/SICC-switzerland-india-flags.jpg
END:VEVENT
END:VCALENDAR