BEGIN:VCALENDAR
VERSION:2.0
PRODID:-//SICC - ECPv5.7.1//NONSGML v1.0//EN
CALSCALE:GREGORIAN
METHOD:PUBLISH
X-ORIGINAL-URL:https://sicc.ch
X-WR-CALDESC:Events for SICC
BEGIN:VTIMEZONE
TZID:UTC
BEGIN:STANDARD
TZOFFSETFROM:+0000
TZOFFSETTO:+0000
TZNAME:UTC
DTSTART:20150101T000000
END:STANDARD
END:VTIMEZONE
BEGIN:VEVENT
DTSTART;VALUE=DATE:20150801
DTEND;VALUE=DATE:20150802
DTSTAMP:20260419T213151
CREATED:20181210T064221Z
LAST-MODIFIED:20191031T072853Z
UID:2030-1438387200-1438473599@sicc.ch
SUMMARY:Celebration of Swiss National Day
DESCRIPTION:Organiser: Consulate General of Switzerland in Bangalore and SICC INDIA South \nBengaluru\, Karnataka
URL:https://sicc.ch/event/celebration-of-swiss-national-day-2/
LOCATION:Bangalore\, Karnataka\, Bangalore\, Karnataka\, India
ATTACH;FMTTYPE=image/jpeg:https://sicc.ch/wp-content/uploads/2019/05/SICC-switzerland-india-flags.jpg
END:VEVENT
END:VCALENDAR