BEGIN:VCALENDAR
VERSION:2.0
PRODID:-//SICC - ECPv5.7.1//NONSGML v1.0//EN
CALSCALE:GREGORIAN
METHOD:PUBLISH
X-ORIGINAL-URL:https://sicc.ch
X-WR-CALDESC:Events for SICC
BEGIN:VTIMEZONE
TZID:Europe/Zurich
BEGIN:DAYLIGHT
TZOFFSETFROM:+0100
TZOFFSETTO:+0200
TZNAME:CEST
DTSTART:20260329T010000
END:DAYLIGHT
BEGIN:STANDARD
TZOFFSETFROM:+0200
TZOFFSETTO:+0100
TZNAME:CET
DTSTART:20261025T010000
END:STANDARD
END:VTIMEZONE
BEGIN:VEVENT
DTSTART;TZID=Europe/Zurich:20260318T163000
DTEND;TZID=Europe/Zurich:20260318T181500
DTSTAMP:20260419T145820
CREATED:20260212T133806Z
LAST-MODIFIED:20260317T165253Z
UID:9811-1773851400-1773857700@sicc.ch
SUMMARY:Business Culture Exchange between Switzerland and India 
DESCRIPTION:We are pleased to extend an exclusive invitation to you to join our upcoming members-only event: \nBusiness Culture Exchange between Switzerland and India organised in collaboration with our member\, EY Switzerland. \nAs Switzerland and India deepen their business ties\, success won’t hinge on strategies alone\, but on how well we understand the people and their cultural background. In a world shaped by geopolitical shifts and rapid growth\, cultural awareness has become a true business skill\, not a soft add-on. \nThis interactive session hosted by EY Switzerland and the Swiss-Indian Chamber of Commerce explores how culture shapes the real way work gets done: decision making\, communication\, trust\, and collaboration. Our cultures are diverse and understanding these differences is key to making cross border work and collaboration smoother and more effective. India’s rich complexity offers valuable learning opportunities\, and Switzerland’s experience in navigating multicultural environments shows how\, together\, we can turn diversity into a shared advantage for all. \nWe look forward to your participation. \nRegistration fee: 45 CHF \nCancellation Disclaimer:\nFull refund on cancellation by email latest by Friday\, March 13\, 2026. No refund for cancellation thereafter. Please inform of cancellation by email to info@sicc.ch\nPhoto disclaimer: Photos and videos will be taken during the event and may be published on our website\, in our newsletter\, and on LinkedIn. If you do not wish to appear in such materials\, please inform us by email info@sicc.ch or at the check-in desk onsite. By attending the event\, you consent to this regulation.\n 
URL:https://sicc.ch/event/business-culture-exchange-between-switzerland-and-india/
LOCATION:EY Zurich Office\, Maagplatz 1\, 8005 Zurich\, Switzerland
CATEGORIES:SICC
ATTACH;FMTTYPE=image/png:https://sicc.ch/wp-content/uploads/2026/02/EY-and-SICC-Landscape.png
END:VEVENT
END:VCALENDAR