BEGIN:VCALENDAR
VERSION:2.0
PRODID:-//SICC - ECPv5.7.1//NONSGML v1.0//EN
CALSCALE:GREGORIAN
METHOD:PUBLISH
X-ORIGINAL-URL:https://sicc.ch
X-WR-CALDESC:Events for SICC
BEGIN:VTIMEZONE
TZID:Asia/Kolkata
BEGIN:STANDARD
TZOFFSETFROM:+0530
TZOFFSETTO:+0530
TZNAME:IST
DTSTART:20210101T000000
END:STANDARD
END:VTIMEZONE
BEGIN:VEVENT
DTSTART;TZID=Asia/Kolkata:20210212T170000
DTEND;TZID=Asia/Kolkata:20210212T180000
DTSTAMP:20260420T045228
CREATED:20210210T051302Z
LAST-MODIFIED:20210913T155626Z
UID:5685-1613149200-1613152800@sicc.ch
SUMMARY:An Exclusive MSME Member Meet
DESCRIPTION:We all know MSMEs are key contributors of income distribution at the ‘base of the pyramid’. They are equally vulnerable to global turbulence such as the recent Covid19 pandemic. It is believed that disruptions of the pandemic have impacted MSMEs earnings by 20-50%. MSMEs can be equally agile in response to a changing world with their size becoming their advantage.\n\nSICC India is keen on supporting its MSME members in recovering their businesses out of this business crisis. The time is now ripe to bounce back and start charting the course of winning strategies for strong growth ahead.\n\nTo enable recovery and acceleration of growth of its businesses\, SICC India in association with India SME Accelerator Network presents an exclusive MSME Member Meet ​to give an orientation of an upcoming Accelerator Program for MSME Growth Revival. \n\nDate: ​Friday 12th Feb\, 2021\n\nTime: 17:00 – 18:00 IST\n\nAgenda :\n\n 	About MSME Growth Revival initiative\n 	Details of the Growth Revival Accelerator program for MSMEs\n 	Expected outcomes of the program\n 	Benefits for SICC MSME Members\n\nBusiness Accelerator Programs are unique professional engagement programs over weekends with industry mentors ​for about 1-2 months’ timeframe. To know more\, join the exclusive MSME Member Meet\n\n\n\nLink to join the ​MSME Member Meet\n\nhttps://zoom.us/webinar/register/WN_59jF5RKaQEKV6MIdMVoioQ
URL:https://sicc.ch/event/an-exclusive-msme-member-meet/
CATEGORIES:Webinar
ATTACH;FMTTYPE=image/jpeg:https://sicc.ch/wp-content/uploads/2019/05/SICC-switzerland-india-flags.jpg
END:VEVENT
END:VCALENDAR