BEGIN:VCALENDAR
VERSION:2.0
PRODID:-//SICC - ECPv5.7.1//NONSGML v1.0//EN
CALSCALE:GREGORIAN
METHOD:PUBLISH
X-ORIGINAL-URL:https://sicc.ch
X-WR-CALDESC:Events for SICC
BEGIN:VTIMEZONE
TZID:Asia/Kolkata
BEGIN:STANDARD
TZOFFSETFROM:+0530
TZOFFSETTO:+0530
TZNAME:IST
DTSTART:20240101T000000
END:STANDARD
END:VTIMEZONE
BEGIN:VEVENT
DTSTART;TZID=Asia/Kolkata:20240920T180000
DTEND;TZID=Asia/Kolkata:20240920T193000
DTSTAMP:20260420T002824
CREATED:20241125T121532Z
LAST-MODIFIED:20241126T064229Z
UID:8565-1726855200-1726860600@sicc.ch
SUMMARY:Advantage India The growth landscape
DESCRIPTION:
URL:https://sicc.ch/event/advantage-india-the-growth-landscape/
LOCATION:New Delhi\, New Delhi\, India
CATEGORIES:Member-to-Members
ATTACH;FMTTYPE=image/jpeg:https://sicc.ch/wp-content/uploads/2019/05/SICC-switzerland-india-flags.jpg
END:VEVENT
END:VCALENDAR