BEGIN:VCALENDAR
VERSION:2.0
PRODID:-//SICC - ECPv5.7.1//NONSGML v1.0//EN
CALSCALE:GREGORIAN
METHOD:PUBLISH
X-ORIGINAL-URL:https://sicc.ch
X-WR-CALDESC:Events for SICC
BEGIN:VTIMEZONE
TZID:Asia/Kolkata
BEGIN:STANDARD
TZOFFSETFROM:+0530
TZOFFSETTO:+0530
TZNAME:IST
DTSTART:20200101T000000
END:STANDARD
END:VTIMEZONE
BEGIN:VEVENT
DTSTART;TZID=Asia/Kolkata:20201119T160000
DTEND;TZID=Asia/Kolkata:20201119T170000
DTSTAMP:20260420T015930
CREATED:20200930T104403Z
LAST-MODIFIED:20201110T043158Z
UID:5383-1605801600-1605805200@sicc.ch
SUMMARY:Advantage India
DESCRIPTION:
URL:https://sicc.ch/event/advantage-india-indo-swiss-tax-treaty/
CATEGORIES:Webinar
ATTACH;FMTTYPE=image/jpeg:https://sicc.ch/wp-content/uploads/2019/05/SICC-switzerland-india-flags.jpg
END:VEVENT
END:VCALENDAR