BEGIN:VCALENDAR
VERSION:2.0
PRODID:-//SICC - ECPv5.7.1//NONSGML v1.0//EN
CALSCALE:GREGORIAN
METHOD:PUBLISH
X-ORIGINAL-URL:https://sicc.ch
X-WR-CALDESC:Events for SICC
BEGIN:VTIMEZONE
TZID:Europe/Zurich
BEGIN:DAYLIGHT
TZOFFSETFROM:+0100
TZOFFSETTO:+0200
TZNAME:CEST
DTSTART:20250330T010000
END:DAYLIGHT
BEGIN:STANDARD
TZOFFSETFROM:+0200
TZOFFSETTO:+0100
TZNAME:CET
DTSTART:20251026T010000
END:STANDARD
END:VTIMEZONE
BEGIN:VEVENT
DTSTART;TZID=Europe/Zurich:20250701T183000
DTEND;TZID=Europe/Zurich:20250701T183000
DTSTAMP:20260419T163450
CREATED:20250515T154450Z
LAST-MODIFIED:20250528T133116Z
UID:9170-1751394600-1751394600@sicc.ch
SUMMARY:40th Anniversary Dinner
DESCRIPTION:
URL:https://sicc.ch/event/40th-anniversary-dinner-sponsors/
LOCATION:Zurich Insurance Company Ltd (Quai Zurich Campus)\, Breitingerstrasse 7\, 8002 Zurich\, Switzerland
CATEGORIES:SICC
ATTACH;FMTTYPE=image/png:https://sicc.ch/wp-content/uploads/2025/04/Anniversary-Dinner-Sponsors.png
END:VEVENT
END:VCALENDAR