BEGIN:VCALENDAR
VERSION:2.0
PRODID:-//SICC - ECPv5.7.1//NONSGML v1.0//EN
CALSCALE:GREGORIAN
METHOD:PUBLISH
X-ORIGINAL-URL:https://sicc.ch
X-WR-CALDESC:Events for SICC
BEGIN:VTIMEZONE
TZID:Asia/Kolkata
BEGIN:STANDARD
TZOFFSETFROM:+0530
TZOFFSETTO:+0530
TZNAME:IST
DTSTART:20220101T000000
END:STANDARD
END:VTIMEZONE
BEGIN:VEVENT
DTSTART;TZID=Asia/Kolkata:20220930T100000
DTEND;TZID=Asia/Kolkata:20220930T130000
DTSTAMP:20260420T015829
CREATED:20220928T093017Z
LAST-MODIFIED:20220928T093104Z
UID:6832-1664532000-1664542800@sicc.ch
SUMMARY:2nd Round Table Session on Corporate Sustainability - Opportunities and Challenges
DESCRIPTION:
URL:https://sicc.ch/event/2nd-round-table-session-on-corporate-sustainability-opportunities-and-challenges/
CATEGORIES:Partner Event
ATTACH;FMTTYPE=image/jpeg:https://sicc.ch/wp-content/uploads/2019/05/SICC-switzerland-india-flags.jpg
END:VEVENT
END:VCALENDAR