BEGIN:VCALENDAR
VERSION:2.0
PRODID:-//SICC - ECPv5.7.1//NONSGML v1.0//EN
CALSCALE:GREGORIAN
METHOD:PUBLISH
X-ORIGINAL-URL:https://sicc.ch
X-WR-CALDESC:Events for SICC
BEGIN:VTIMEZONE
TZID:UTC
BEGIN:STANDARD
TZOFFSETFROM:+0000
TZOFFSETTO:+0000
TZNAME:UTC
DTSTART:20160101T000000
END:STANDARD
END:VTIMEZONE
BEGIN:VEVENT
DTSTART;VALUE=DATE:20160915
DTEND;VALUE=DATE:20160916
DTSTAMP:20260420T002659
CREATED:20181210T072345Z
LAST-MODIFIED:20191031T072533Z
UID:2044-1473897600-1473983999@sicc.ch
SUMMARY:11th Ambassador’s Golf Cup
DESCRIPTION:The Swiss-Asian Cahmber of Commerce and the Swiss-Indian Chamber of Commerce are pleased to invite to the 11th Ambassador’s Glof Cup on Thursday\, 15th September 2016 at Andermatt Swiss Alps Golf Course. \nMore information as well as the registration form are available here:
URL:https://sicc.ch/event/11th-ambassadors-golf-cup/
LOCATION:Andermatt Swiss Alps Golf Course
ATTACH;FMTTYPE=image/jpeg:https://sicc.ch/wp-content/uploads/2019/05/SICC-switzerland-india-flags.jpg
END:VEVENT
END:VCALENDAR